BEGIN:VCALENDAR
BEGIN:VEVENT
SUMMARY:Jackson-Pratt: 'Obfuscation of Self: Plastics On Pillar' [nycnoise
 ]
DTSTART:20250913T000000Z
DTEND:20250913T010000Z
UID:8d3caab0-f9ea-418a-a7cf-369fa0064e7c
CREATED:20260420T163129Z
DESCRIPTION:
LOCATION:issue project room (22 boerum place\, brooklyn)
END:VEVENT
END:VCALENDAR
