BEGIN:VCALENDAR
BEGIN:VEVENT
SUMMARY:An Evening with Dead Gods: Interior One\, Mistletoe\, Infibulation
 \, Drumloop & Theia\, JHK & Neuter\, DJ  Sodomite [nycnoise]
DTSTART:20250817T220000Z
DTEND:20250817T230000Z
UID:dec2de23-919b-4a41-9865-553379fcdf43
CREATED:20260420T145143Z
DESCRIPTION:"Thousands of Dead Gods Presents an evening of Industrial :: N
 oise :: Power Electronics"
LOCATION:fringe records (656 Woodward Ave\, Ridgewood\, NY 11385)
END:VEVENT
END:VCALENDAR
