BEGIN:VCALENDAR
BEGIN:VEVENT
SUMMARY:Werewolf Jerusalem (Richard Ramirez)\, Double Dong\, Slacking\, Sp
 irit Vexation [nycnoise]
DTSTART:20251109T010000Z
DTEND:20251109T020000Z
UID:afeadeae-82a1-4f65-97ac-d0858c636cd7
CREATED:20260425T203851Z
DESCRIPTION:
LOCATION:fringe records (656 Woodward Ave\, Ridgewood\, NY 11385)
END:VEVENT
END:VCALENDAR
