BEGIN:VCALENDAR
BEGIN:VEVENT
SUMMARY:William Basinski\, Kali Malone\, Evicshen [nycnoise]
DTSTART:20250904T220000Z
DTEND:20250904T230000Z
UID:96c89989-c7f3-45c3-ae62-fac4ee6642cc
CREATED:20260420T163503Z
DESCRIPTION:
LOCATION:knockdown center (52-19 flushing ave\, maspeth)
END:VEVENT
END:VCALENDAR
