BEGIN:VCALENDAR
BEGIN:VEVENT
SUMMARY:Outline: Erika de Casier\, Smerz\, Clara La San\, Fine\, urika's b
 edroom [nycnoise]
DTSTART:20251024T230000Z
DTEND:20251025T000000Z
UID:c015acd9-450d-4728-b0f9-a7420653c719
CREATED:20260420T145244Z
DESCRIPTION:
LOCATION:knockdown center (52-19 flushing ave\, maspeth)
END:VEVENT
END:VCALENDAR
