BEGIN:VCALENDAR
BEGIN:VEVENT
SUMMARY:Zara Dekho\, Bergsonist\, EscaFlowne [nycnoise]
DTSTART:20250815T000000Z
DTEND:20250815T010000Z
UID:f7b8dd14-4dcb-4491-a6fe-7bd60576d54e
CREATED:20260420T145301Z
DESCRIPTION:
LOCATION:jupiter disco (1237 flushing ave\, brooklyn)
END:VEVENT
END:VCALENDAR
