BEGIN:VCALENDAR
BEGIN:VEVENT
SUMMARY:inGardens: Dave Sewelson Trio\, Michael Wimberly Trio\, Anne Waldm
 an\, Alexis Marcelo & Jay Rodriguez\, AFFW Big Band [nycnoise]
DTSTART:20250907T180000Z
DTEND:20250907T190000Z
UID:bba5c961-76a1-48b2-a2b5-2e364b7bd29c
CREATED:20260420T163320Z
DESCRIPTION:
LOCATION:children’s magical garden (129 stanton st. (near essex)\, manha
 ttan)
END:VEVENT
END:VCALENDAR
