BEGIN:VCALENDAR
BEGIN:VEVENT
SUMMARY:InGardens: Janice Lowe Trio\, Claire de Brunner Trio\, L.I.P.\, Wa
 rren Trae Crudup III Trio [nycnoise]
DTSTART:20251004T180000Z
DTEND:20251004T190000Z
UID:047b58f4-5114-43b8-a568-3e27e0d7c3f9
CREATED:20260420T145208Z
DESCRIPTION:JL3 w/ Devin Brahja Waldman\, Trae Crudup\; CdB3 w/ Nick Lyons
 \, Cheryl Richards\; L.I.P.: K.J. Holmes &amp\; Jeremy Carlstedt\; WTCIII 
 w/ Alfredo Col&oacute\;n\, Shara Lunon
LOCATION:first street green (33 E 1st St\, New York\, NY 10003)
END:VEVENT
END:VCALENDAR
