BEGIN:VCALENDAR
BEGIN:VEVENT
SUMMARY:InGardens: Lesley Mok Trio\, Andrea Wolper & William Parker\, Sol 
 Cabrini & Tongo Eisen Martin\, Selendis Quartet [nycnoise]
DTSTART:20251005T180000Z
DTEND:20251005T190000Z
UID:4d3025f7-e276-48cb-8e71-3893f91967ef
CREATED:20260420T145457Z
DESCRIPTION:LM3 w/ Chris Williams\, Rafiq Bhatia\; Selendis Sebastian Alex
 ander Johnson 4 w/ Francesca H.\, Shogo Yamagishi\, Orchid McRae
LOCATION:first street green (33 E 1st St\, New York\, NY 10003)
END:VEVENT
END:VCALENDAR
