BEGIN:VCALENDAR
BEGIN:VEVENT
SUMMARY:InGardens: Chris Williams & Nate Wooley\, Davalois Fearon & Mike M
 cGinnis\, Mixashawn Rozie\, Luke Stewart's Solar Return [nycnoise]
DTSTART:20251012T180000Z
DTEND:20251012T190000Z
UID:f46278eb-64e3-4e8e-ae9d-a7bf15ecf263
CREATED:20260420T145347Z
DESCRIPTION:MR w/ Michael Larocca
LOCATION:first street green (33 E 1st St\, New York\, NY 10003)
END:VEVENT
END:VCALENDAR
