BEGIN:VCALENDAR
BEGIN:VEVENT
SUMMARY:Aquasonic {Downtempo Night}: Currency Audio (live)\, aka-Sol\, Ech
 or [nycnoise]
DTSTART:20250818T000000Z
DTEND:20250818T010000Z
UID:9487e8c3-b540-478f-8250-f9f301b74176
CREATED:20260420T145141Z
DESCRIPTION:curated by Danny Roche\, "comfy pillows we'll have for you in 
 the rave cave (dancing also encouraged! Just don't step on anyone!)"
LOCATION:[RIP] earthly delights (5738 Myrtle Ave\, Ridgewood\, NY 11385)
END:VEVENT
END:VCALENDAR
