BEGIN:VCALENDAR
BEGIN:VEVENT
SUMMARY:MV 40th Bday: Mike Videopunk: 'MUSIC FOR 3 VCRS' [Solo A/V Duratio
 nal Performance] [nycnoise]
DTSTART:20250829T040100Z
DTEND:20250829T050100Z
UID:12001ed2-9b08-4079-85eb-45c210fc9eed
CREATED:20260420T145417Z
DESCRIPTION:"THE ARTIST WILL BE PRESENT &amp\; PERFORMING FROM MIDNIGHT ON
  8/29 TO MIDNIGHT ON 8/30  THE PERFORMANCE IS OPEN TO THE PUBLIC\, &amp\
 ; PEOPLE ARE ENCOURAGED TO STOP BY\, REFLECT ON TIME IN THE SPACE\, &amp\;
  CELEBRATE THEIR OWN LIVES STREAMING DETAILS TBA"
LOCATION:millennium film workshop (167 Wilson Ave\, Brooklyn\, NY 11237)
END:VEVENT
END:VCALENDAR
