BEGIN:VCALENDAR
BEGIN:VEVENT
SUMMARY:Celebrating Behrman: David Behrman & Fast Forward\, Frankie Mann /
  Daniel Fishkin / Cleek Schrey [nycnoise]
DTSTART:20250925T000000Z
DTEND:20250925T010000Z
UID:969afeca-2a86-47bf-842b-f0a312c6128c
CREATED:20260420T163321Z
DESCRIPTION:
LOCATION:issue project room (22 boerum place\, brooklyn)
END:VEVENT
END:VCALENDAR
