BEGIN:VCALENDAR
BEGIN:VEVENT
SUMMARY:Barnett Cohen: 'anyyywayyy whatever\,' Day #2/2 [nycnoise]
DTSTART:20250927T200000Z
DTEND:20250927T210000Z
UID:dc879ed3-8a9d-46cd-8a5e-33739f1f82d2
CREATED:20260420T163504Z
DESCRIPTION:
LOCATION:amant géza (306 Maujer St\, Brooklyn\, NY 11206)
END:VEVENT
END:VCALENDAR
