BEGIN:VCALENDAR
BEGIN:VEVENT
SUMMARY:Surge: Theo Bleckmann x Joe Branciforte\, Sirintip x Nolan Byrd x 
 Perrin Grace x Kengchakaj\, Perrin Grace (DJ) [nycnoise]
DTSTART:20250904T230000Z
DTEND:20250905T000000Z
UID:a23aa312-717b-48a4-b518-78237d2c6ee1
CREATED:20260420T163506Z
DESCRIPTION:
LOCATION:nublu 151 (151 ave c\, manhattan)
END:VEVENT
END:VCALENDAR
