BEGIN:VCALENDAR
BEGIN:VEVENT
SUMMARY:1Alkebulan\, Miles Ave\, low.bo [nycnoise]
DTSTART:20250816T000000Z
DTEND:20250816T010000Z
UID:b209d944-8d46-4865-ad87-a69b5b70faec
CREATED:20260420T145210Z
DESCRIPTION:7:30pm doors
LOCATION:owl (497 rogers ave\, brooklyn)
END:VEVENT
END:VCALENDAR
