BEGIN:VCALENDAR
BEGIN:VEVENT
SUMMARY:Ambient Pasta Presents: Weeze & SQORE (Record Releases) [nycnoise]
DTSTART:20250824T000000Z
DTEND:20250824T010000Z
UID:3188a0fe-f7fa-47ac-89f7-e30196f2f0f1
CREATED:20260420T145143Z
DESCRIPTION:7:30pm doors
LOCATION:owl (497 rogers ave\, brooklyn)
END:VEVENT
END:VCALENDAR
