BEGIN:VCALENDAR
BEGIN:VEVENT
SUMMARY:Gaza Relief Benefit: Nuria Graham & Kazu Makino\, Ali Dineen\, Chr
 is & Morley\, Habekost / Hurley Duo\, Joy Askew [nycnoise]
DTSTART:20250905T000000Z
DTEND:20250905T010000Z
UID:10faad4e-d257-4cf6-870e-2e621af7e014
CREATED:20260420T163210Z
DESCRIPTION:🇵🇸&nbsp\;benefit for World Central Kitchen\; 7:30pm door
 s
LOCATION:owl (497 rogers ave\, brooklyn)
END:VEVENT
END:VCALENDAR
