BEGIN:VCALENDAR
BEGIN:VEVENT
SUMMARY:History Dog (Chris Williams\, Lesley Mok\, Luke Stewart\, Shara Lu
 non)\, CarDust (Caroline Davis & Dustin Carlson) [nycnoise]
DTSTART:20250922T000000Z
DTEND:20250922T010000Z
UID:8b0140fd-450d-423a-a104-a6004b502e78
CREATED:20260420T163207Z
DESCRIPTION:7:30pm doors
LOCATION:owl (497 rogers ave\, brooklyn)
END:VEVENT
END:VCALENDAR
