BEGIN:VCALENDAR
BEGIN:VEVENT
SUMMARY:Wood River\, TImo Vollbrecht [nycnoise]
DTSTART:20251024T000000Z
DTEND:20251024T010000Z
UID:2a8b4065-544d-4e61-9c82-dbf340d1299d
CREATED:20260420T145143Z
DESCRIPTION:7:30pm doors
LOCATION:owl (497 rogers ave\, brooklyn)
END:VEVENT
END:VCALENDAR
