BEGIN:VCALENDAR
BEGIN:VEVENT
SUMMARY:REGENERATION: Rosa Pistola\, Debit\, Sevyn Love + OZA\, TYJAH [nyc
 noise]
DTSTART:20250906T013000Z
DTEND:20250906T023000Z
UID:ba8194a2-6d37-4007-9a54-10b3d34e3061
CREATED:20260420T163235Z
DESCRIPTION:
LOCATION:paragon (990 broadway\, brooklyn)
END:VEVENT
END:VCALENDAR
