BEGIN:VCALENDAR
BEGIN:VEVENT
SUMMARY:REGENERATION: Volvox\, u.r.trax\, Vesolo + Bapari\, Memphy [nycnoi
 se]
DTSTART:20250913T013000Z
DTEND:20250913T023000Z
UID:b3e923c4-8c46-4b63-8c08-f23fa535518e
CREATED:20260420T163248Z
DESCRIPTION:
LOCATION:paragon (990 broadway\, brooklyn)
END:VEVENT
END:VCALENDAR
