BEGIN:VCALENDAR
BEGIN:VEVENT
SUMMARY:REGENERATION: Rrose\, LYDO\, Liza Rivs\, azumi OE & Takuya Nakamur
 a (live)\, Abyss X\, Doula [nycnoise]
DTSTART:20250921T013000Z
DTEND:20250921T023000Z
UID:25f0987b-3eda-4e38-9e46-2db8dad5ac5a
CREATED:20260420T163135Z
DESCRIPTION:
LOCATION:paragon (990 broadway\, brooklyn)
END:VEVENT
END:VCALENDAR
