BEGIN:VCALENDAR
BEGIN:VEVENT
SUMMARY:Chris Garneau\, Michael Beharie [nycnoise]
DTSTART:20251022T230000Z
DTEND:20251023T000000Z
UID:89124267-a5c1-49e6-a14b-72cbbc4a7e8a
CREATED:20260420T145247Z
DESCRIPTION:
LOCATION:sleepwalk (251 bushwick ave\, brooklyn)
END:VEVENT
END:VCALENDAR
