BEGIN:VCALENDAR
BEGIN:VEVENT
SUMMARY:Shara Lunon / Laura Cocks / Rafiq Bhatia / Timothy Angulo\, Patric
 k Holmes / Luke Stewart / Chris Corsano [nycnoise]
DTSTART:20250826T230000Z
DTEND:20250827T000000Z
UID:8e330b1c-7579-48a5-a854-f3a00292cae6
CREATED:20260420T145257Z
DESCRIPTION:
LOCATION:union pool (484 union ave\, brooklyn)
END:VEVENT
END:VCALENDAR
