BEGIN:VCALENDAR
BEGIN:VEVENT
SUMMARY:Robert Ashley's 'Celestial Excursions\,' Night #1/3 [nycnoise]
DTSTART:20250913T000000Z
DTEND:20250913T010000Z
UID:9efaf9a6-927d-40d8-8bc9-67f63a6b275a
CREATED:20260420T163235Z
DESCRIPTION:7pm doors\; ft. Gelsey Bell\, Kayleigh Butcher\, Mario Diaz-Mo
 resco\, Brian McCorkle\, Paul Pinto
LOCATION:roulette (509 atlantic ave\, brooklyn)
END:VEVENT
END:VCALENDAR
