BEGIN:VCALENDAR
BEGIN:VEVENT
SUMMARY:Robert Ashley's 'Celestial Excursions\,' Night #2/3 [nycnoise]
DTSTART:20250914T000000Z
DTEND:20250914T010000Z
UID:7ad40894-75d1-4461-a72c-ab08f32f2859
CREATED:20260420T163235Z
DESCRIPTION:7pm doors\; ft. Gelsey Bell\, Kayleigh Butcher\, Mario Diaz-Mo
 resco\, Brian McCorkle\, Paul Pinto
LOCATION:roulette (509 atlantic ave\, brooklyn)
END:VEVENT
END:VCALENDAR
