BEGIN:VCALENDAR
BEGIN:VEVENT
SUMMARY:Robert Ashley's 'Celestial Excursions\,' Night #3/3 [nycnoise]
DTSTART:20250915T000000Z
DTEND:20250915T010000Z
UID:2fdd3d5a-1d88-4f33-8262-c64df6fa9aad
CREATED:20260420T163136Z
DESCRIPTION:7pm doors\; ft. Gelsey Bell\, Kayleigh Butcher\, Mario Diaz-Mo
 resco\, Brian McCorkle\, Paul Pinto
LOCATION:roulette (509 atlantic ave\, brooklyn)
END:VEVENT
END:VCALENDAR
