BEGIN:VCALENDAR
BEGIN:VEVENT
SUMMARY:Bergsonist: 'ASL أصل ⴰⵙⵍ' ft. Moe Elgad [nycnoise]
DTSTART:20250919T000000Z
DTEND:20250919T010000Z
UID:12758fce-6fe1-4e6d-905d-35e79d568c42
CREATED:20260420T163207Z
DESCRIPTION:$30/7pm doors
LOCATION:roulette (509 atlantic ave\, brooklyn)
END:VEVENT
END:VCALENDAR
