BEGIN:VCALENDAR
BEGIN:VEVENT
SUMMARY:Fieldwork (Album Release\; Vijay Iyer\, Tyshawn Sorey\, Steve Lehm
 an) [nycnoise]
DTSTART:20250920T000000Z
DTEND:20250920T010000Z
UID:2f6cc47b-0183-46d9-83d6-9f7aadffc079
CREATED:20260420T163207Z
DESCRIPTION:7pm doors
LOCATION:roulette (509 atlantic ave\, brooklyn)
END:VEVENT
END:VCALENDAR
