BEGIN:VCALENDAR
BEGIN:VEVENT
SUMMARY:Marsella plays Zorn #2/4: BALLADES / IMPROMPTUS / NOCTURNES (Brian
  Marsella\, Jorge Roeder\, Ches Smith) [nycnoise]
DTSTART:20250815T003000Z
DTEND:20250815T013000Z
UID:fc28df50-6ab4-46a8-93dd-930b42df1cd9
CREATED:20260420T145254Z
DESCRIPTION:
LOCATION:stone (55 w. 13th st.\, manhattan)
END:VEVENT
END:VCALENDAR
