BEGIN:VCALENDAR
BEGIN:VEVENT
SUMMARY:Kenny Wollesen: The Music of Rose Thorne\, Night #1/4 [nycnoise]
DTSTART:20250821T003000Z
DTEND:20250821T013000Z
UID:ac5747c7-2c28-4dba-ae77-b6adc2e051fe
CREATED:20260420T145209Z
DESCRIPTION:w/ Sami Stevens\, Dida Pelled\, Sasha Dobson\, Doug Wieselman\
 , Richie White\, Will Shore\, Tony Scherr\, Vicente Archer\, Jesse Harris\
 , Michael Coleman\, Yusuke Yamamoto\, Elizabeth Pupo-Walker\, Steven Berns
 tein\, Julia Elsas\, Briggan Krauss\, Charlie Burnham
LOCATION:stone (55 w. 13th st.\, manhattan)
END:VEVENT
END:VCALENDAR
