BEGIN:VCALENDAR
BEGIN:VEVENT
SUMMARY:Kenny Wollesen: The Music of Rose Thorne\, Night #2/4 [nycnoise]
DTSTART:20250822T003000Z
DTEND:20250822T013000Z
UID:9db46b1d-8226-439d-be46-4a5311a9ac96
CREATED:20260420T145141Z
DESCRIPTION:w/ Sami Stevens\, Dida Pelled\, Sasha Dobson\, Doug Wieselman\
 , Richie White\, Will Shore\, Tony Scherr\, Vicente Archer\, Jesse Harris\
 , Michael Coleman\, Yusuke Yamamoto\, Elizabeth Pupo-Walker\, Steven Berns
 tein\, Julia Elsas\, Briggan Krauss\, Charlie Burnham
LOCATION:stone (55 w. 13th st.\, manhattan)
END:VEVENT
END:VCALENDAR
