BEGIN:VCALENDAR
BEGIN:VEVENT
SUMMARY:Kenny Wollesen: The Music of Rose Thorne\, Night #4/4 [nycnoise]
DTSTART:20250824T003000Z
DTEND:20250824T013000Z
UID:e19f5a84-9bf1-4737-a169-a88025db0a00
CREATED:20260420T145418Z
DESCRIPTION:
LOCATION:stone (55 w. 13th st.\, manhattan)
END:VEVENT
END:VCALENDAR
