BEGIN:VCALENDAR
BEGIN:VEVENT
SUMMARY:Dunn #3/4: DIETER ROTH SOLO (Trevor Dunn) [nycnoise]
DTSTART:20250830T000000Z
DTEND:20250830T010000Z
UID:f5c246b8-45d3-4ab3-a8d4-c1308f63d96e
CREATED:20260420T145357Z
DESCRIPTION:
LOCATION:stone (55 w. 13th st.\, manhattan)
END:VEVENT
END:VCALENDAR
