BEGIN:VCALENDAR
BEGIN:VEVENT
SUMMARY:Davis #1/4: TRIO (Caroline Davis\, Chris Tordini\, Savannah Harris
 ) [nycnoise]
DTSTART:20250904T003000Z
DTEND:20250904T013000Z
UID:5597155f-2748-4cb8-a0e4-682622c4fd63
CREATED:20260420T163319Z
DESCRIPTION:
LOCATION:stone (55 w. 13th st.\, manhattan)
END:VEVENT
END:VCALENDAR
