BEGIN:VCALENDAR
BEGIN:VEVENT
SUMMARY:Marsella #1/4: Pataphysics (Brian Marsella\, Sae Hashimoto\, Patri
 cia Brennan\, Joel Ross) [nycnoise]
DTSTART:20250911T003000Z
DTEND:20250911T013000Z
UID:0bfd4bdd-59f7-4922-b6e1-d920e0e7b881
CREATED:20260420T163320Z
DESCRIPTION:
LOCATION:stone (55 w. 13th st.\, manhattan)
END:VEVENT
END:VCALENDAR
