BEGIN:VCALENDAR
BEGIN:VEVENT
SUMMARY:Marsella #2/4: Trio (Brian Marsella\, Jorge Roeder\, Tomas Fujiwar
 a) [nycnoise]
DTSTART:20250912T003000Z
DTEND:20250912T013000Z
UID:95c8ac4d-f9d2-47b1-9264-2d17b7dbf2a9
CREATED:20260420T163136Z
DESCRIPTION:
LOCATION:stone (55 w. 13th st.\, manhattan)
END:VEVENT
END:VCALENDAR
