BEGIN:VCALENDAR
BEGIN:VEVENT
SUMMARY:Weiss #1/4: Dan Weiss Trio (w/ Craig Taborn\, Peter Washington) [n
 ycnoise]
DTSTART:20250918T003000Z
DTEND:20250918T013000Z
UID:c462bb18-75d3-40ad-9254-57d83026f729
CREATED:20260420T163138Z
DESCRIPTION:
LOCATION:stone (55 w. 13th st.\, manhattan)
END:VEVENT
END:VCALENDAR
