BEGIN:VCALENDAR
BEGIN:VEVENT
SUMMARY:Weiss #3/4: OCTET (Ingrid Laubrock\, Anna Webber\, Caroline Davis\
 , Sophia Kickhofel\, Matt Mitchell\, Miles Okazaki\, Chris Tordini\, Dan W
 eiss) [nycnoise]
DTSTART:20250920T003000Z
DTEND:20250920T013000Z
UID:dfe278ac-2dbb-48e7-8892-eb16f776ebdc
CREATED:20260420T163210Z
DESCRIPTION:
LOCATION:stone (55 w. 13th st.\, manhattan)
END:VEVENT
END:VCALENDAR
