BEGIN:VCALENDAR
BEGIN:VEVENT
SUMMARY:Weiss #4/4: Dan Weiss Solo [nycnoise]
DTSTART:20250921T003000Z
DTEND:20250921T013000Z
UID:e9f02f37-fa50-4b60-9d89-8e9fa61e0772
CREATED:20260420T163319Z
DESCRIPTION:
LOCATION:stone (55 w. 13th st.\, manhattan)
END:VEVENT
END:VCALENDAR
