BEGIN:VCALENDAR
BEGIN:VEVENT
SUMMARY:Webber #1/4: DUO (Anna Webber & Jason Moran) [nycnoise]
DTSTART:20250925T003000Z
DTEND:20250925T013000Z
UID:2c24b9b7-e72e-42ab-bf5e-8e06f4f8dfa0
CREATED:20260420T163209Z
DESCRIPTION:
LOCATION:stone (55 w. 13th st.\, manhattan)
END:VEVENT
END:VCALENDAR
