BEGIN:VCALENDAR
BEGIN:VEVENT
SUMMARY:Webber #3/4: QUINTET (Anna Webber\, Madison Greenstone\, Ryan East
 er\, Nathaniel Morgan\, John Hollenbeck) [nycnoise]
DTSTART:20250927T003000Z
DTEND:20250927T013000Z
UID:611c7161-653a-4b58-b4fc-4eea35e2cc88
CREATED:20260420T163130Z
DESCRIPTION:
LOCATION:stone (55 w. 13th st.\, manhattan)
END:VEVENT
END:VCALENDAR
