BEGIN:VCALENDAR
BEGIN:VEVENT
SUMMARY:Webber #4/4: DOUBLE SIMPLE TRIO (Anna Webber\, Ingrid Laubrock\, M
 iles Okazaki\, Matt Mitchell\, Chris Tordini\, John Hollenbeck) [nycnoise]
DTSTART:20250928T003000Z
DTEND:20250928T013000Z
UID:472cf402-8d58-42b1-a245-d38c73e96c17
CREATED:20260420T163342Z
DESCRIPTION:
LOCATION:stone (55 w. 13th st.\, manhattan)
END:VEVENT
END:VCALENDAR
