BEGIN:VCALENDAR
BEGIN:VEVENT
SUMMARY:Reid #1/4: TRIO (Lesley Mok\, Yvonne Rogers\, Tomeka Reid) [nycnoi
 se]
DTSTART:20251002T003000Z
DTEND:20251002T013000Z
UID:cceb0b51-fa2c-4a88-8924-0cf93cd3e76b
CREATED:20260420T145407Z
DESCRIPTION:🅙
LOCATION:stone (55 w. 13th st.\, manhattan)
END:VEVENT
END:VCALENDAR
