BEGIN:VCALENDAR
BEGIN:VEVENT
SUMMARY:Reid #2/4: DUO (Marty Ehrlich & Tomeka Reid) [nycnoise]
DTSTART:20251003T003000Z
DTEND:20251003T013000Z
UID:fc71b4ab-7daf-4e38-b6e4-b35f3f6267fc
CREATED:20260420T145137Z
DESCRIPTION:
LOCATION:stone (55 w. 13th st.\, manhattan)
END:VEVENT
END:VCALENDAR
