BEGIN:VCALENDAR
BEGIN:VEVENT
SUMMARY:Friedlander #1/4: THOROUGHBREDS (Erik Friedlander\, Mark Helias\, 
 Uri Caine\, Satoshi Takeishi) [nycnoise]
DTSTART:20251009T003000Z
DTEND:20251009T013000Z
UID:6d878690-377e-4d47-b6f0-a206682be81e
CREATED:20260420T145141Z
DESCRIPTION:
LOCATION:stone (55 w. 13th st.\, manhattan)
END:VEVENT
END:VCALENDAR
