BEGIN:VCALENDAR
BEGIN:VEVENT
SUMMARY:Fraser #1/4: SOLO (Henry Fraser) [nycnoise]
DTSTART:20251016T003000Z
DTEND:20251016T013000Z
UID:2e7d77f1-b3e0-426e-8fa0-fce46f673fcd
CREATED:20260420T145134Z
DESCRIPTION:
LOCATION:stone (55 w. 13th st.\, manhattan)
END:VEVENT
END:VCALENDAR
