BEGIN:VCALENDAR
BEGIN:VEVENT
SUMMARY:Fraser #2/4: DUO (Henry Fraser & Michael Cavuto) [nycnoise]
DTSTART:20251017T003000Z
DTEND:20251017T013000Z
UID:39d6afff-d1be-49b0-8fa5-0896de81ac16
CREATED:20260420T145327Z
DESCRIPTION:
LOCATION:stone (55 w. 13th st.\, manhattan)
END:VEVENT
END:VCALENDAR
