BEGIN:VCALENDAR
BEGIN:VEVENT
SUMMARY:Medeski #1/4: John Medeski & Kirk Knuffke: Angelic Brothers play t
 he music of Sun Ra [nycnoise]
DTSTART:20251023T003000Z
DTEND:20251023T013000Z
UID:2ee66227-10b6-47df-ba43-e944316d8260
CREATED:20260420T145212Z
DESCRIPTION:
LOCATION:stone (55 w. 13th st.\, manhattan)
END:VEVENT
END:VCALENDAR
